BEGIN:VCALENDAR
VERSION:2.0
PRODID:-//ChamberMaster//Event Calendar 2.0//EN
METHOD:PUBLISH
X-PUBLISHED-TTL:P3D
REFRESH-INTERVAL:P3D
CALSCALE:GREGORIAN
BEGIN:VEVENT
DTSTART:20190930T193000Z
DTEND:20190930T203000Z
X-MICROSOFT-CDO-ALLDAYEVENT:FALSE
SUMMARY:Ribbon Cutting for Sharp Presents
DESCRIPTION:Sharp Presents invites you to come celebrate their first anniversary at their storefront\, with a ribbon cutting!
X-ALT-DESC;FMTTYPE=text/html:Sharp Presents invites you to come celebrate their first anniversary at their storefront\, with a ribbon cutting!<br />\n<br />\n&nbsp\;
LOCATION:1088 State Route 9 Queensbury\, NY 12804
UID:e.1842.3850
SEQUENCE:3
DTSTAMP:20260422T085647Z
URL:http://business.adirondackchamber.org/events/details/ribbon-cutting-for-sharp-presents-3850
END:VEVENT

END:VCALENDAR
