BEGIN:VCALENDAR
VERSION:2.0
PRODID:-//ChamberMaster//Event Calendar 2.0//EN
METHOD:PUBLISH
X-PUBLISHED-TTL:P3D
REFRESH-INTERVAL:P3D
CALSCALE:GREGORIAN
BEGIN:VEVENT
DTSTART:20200117T180000Z
DTEND:20200117T190000Z
X-MICROSOFT-CDO-ALLDAYEVENT:FALSE
SUMMARY:Ribbon Cutting for Sensations Play Gym
DESCRIPTION:Join us in welcoming Sensations Play Gym to the business community\, with an ARCC Ribbon Cutting!\n\n\n\nSensations Play Gym is a safe fun place for children and their families to explore and learn about their environment and become more self aware. Sensations Play Gym\, located in Fort Edward\, NY\, was designed with therapeutic equipment to meet the needs of all children and all abilities.
X-ALT-DESC;FMTTYPE=text/html:<span style="color:#000000\;">Join us in welcoming Sensations Play Gym to the business community\, with an ARCC Ribbon Cutting!<br />\n<br />\nSensations Play Gym is a safe fun place for children and their families to explore and learn about their environment and become more self aware. Sensations Play Gym\, located in Fort Edward\, NY\, was designed with therapeutic equipment to meet the needs of all children and all abilities. </span>
LOCATION:Sensations Play Gym 49 Broadway Fort Edward\, NY 12828
UID:e.1842.3907
SEQUENCE:3
DTSTAMP:20260422T004223Z
URL:http://business.adirondackchamber.org/events/details/ribbon-cutting-for-sensations-play-gym-3907
END:VEVENT

END:VCALENDAR
