BEGIN:VCALENDAR
VERSION:2.0
PRODID:-//ChamberMaster//Event Calendar 2.0//EN
METHOD:PUBLISH
X-PUBLISHED-TTL:P3D
REFRESH-INTERVAL:P3D
CALSCALE:GREGORIAN
BEGIN:VEVENT
DTSTART:20190607T180000Z
DTEND:20190607T200000Z
X-MICROSOFT-CDO-ALLDAYEVENT:FALSE
SUMMARY:Ribbon Cutting for Salvation Army National Doughnut Day
DESCRIPTION:Celebrated on the first Friday in June\, National Doughnut Day was created by The Salvation Army. Join us to hear the story behind the creation of the "doughnut" and to celebrate the great work that The Salvation Army does for our region.
X-ALT-DESC;FMTTYPE=text/html:Celebrated on the first Friday in June\, National Doughnut Day was created by The Salvation Army. Join us to hear the story behind the creation of the &quot\;doughnut&quot\; and to celebrate the great work that The Salvation Army does for our region.
LOCATION:The Salvation Army 37 Broad Street Glens Falls\, NY 12801
UID:e.1842.3694
SEQUENCE:3
DTSTAMP:20260424T122325Z
URL:http://business.adirondackchamber.org/events/details/ribbon-cutting-for-salvation-army-national-doughnut-day-3694
END:VEVENT

END:VCALENDAR
