BEGIN:VCALENDAR
VERSION:2.0
PRODID:-//ChamberMaster//Event Calendar 2.0//EN
METHOD:PUBLISH
X-PUBLISHED-TTL:P3D
REFRESH-INTERVAL:P3D
CALSCALE:GREGORIAN
BEGIN:VEVENT
DTSTART:20191122T193000Z
DTEND:20191122T203000Z
X-MICROSOFT-CDO-ALLDAYEVENT:FALSE
SUMMARY:Ribbon Cutting for Salvation Army Holiday Stage
DESCRIPTION:The Salvation Army of Glens Falls is unveiling a community Holiday Stage venue at Aviation Mall\, to kickoff their Holiday Campaign.
X-ALT-DESC;FMTTYPE=text/html:The Salvation Army of Glens Falls is unveiling a community Holiday Stage venue at Aviation Mall\, to kickoff their Holiday Campaign.
LOCATION:Aviation Mall 578 Aviation Road Queensbury\, NY 12804
UID:e.1842.3887
SEQUENCE:3
DTSTAMP:20260422T035945Z
URL:http://business.adirondackchamber.org/events/details/ribbon-cutting-for-salvation-army-holiday-stage-3887
END:VEVENT

END:VCALENDAR
