BEGIN:VCALENDAR
VERSION:2.0
PRODID:-//ChamberMaster//Event Calendar 2.0//EN
METHOD:PUBLISH
X-PUBLISHED-TTL:P3D
REFRESH-INTERVAL:P3D
CALSCALE:GREGORIAN
BEGIN:VEVENT
DTSTART:20180515T163000Z
DTEND:20180515T173000Z
X-MICROSOFT-CDO-ALLDAYEVENT:FALSE
SUMMARY:Ribbon Cutting for Rude Betty
DESCRIPTION:Rude Betty was opened in 2017 to bring some snark into downtown Glens Falls. Come check out this unique gift store. Join us as we celebrate them as an addition to the business community!
X-ALT-DESC;FMTTYPE=text/html:<span style="font-size:14px\;"><span style="font-family: tahoma\;"><span style="color: black\;"><a href="http://r20.rs6.net/tn.jsp?t=d4pc787ab.0.0.spaavobab.0&amp\;id=preview&amp\;r=3&amp\;p=https%3A%2F%2Fwww.rudebetty.com%2F" target="_blank">Rude Betty</a> was opened in 2017 to bring some snark into downtown Glens Falls. Come check out this unique gift store.</span><span style="color: black\;"> Join us as we celebrate them as an addition to the business community!</span></span></span><br />\n&nbsp\;
LOCATION:18 Exchange Street Glens Falls\, NY 12801
UID:e.1842.3311
SEQUENCE:3
DTSTAMP:20260425T110730Z
URL:http://business.adirondackchamber.org/events/details/ribbon-cutting-for-rude-betty-3311
END:VEVENT

END:VCALENDAR
