BEGIN:VCALENDAR
VERSION:2.0
PRODID:-//ChamberMaster//Event Calendar 2.0//EN
METHOD:PUBLISH
X-PUBLISHED-TTL:P3D
REFRESH-INTERVAL:P3D
CALSCALE:GREGORIAN
BEGIN:VEVENT
DTSTART:20170603T133000Z
DTEND:20170603T140000Z
X-MICROSOFT-CDO-ALLDAYEVENT:FALSE
SUMMARY:Ribbon Cutting for Rocksport
DESCRIPTION:Come help us celebrate Rocksport's New Location
X-ALT-DESC;FMTTYPE=text/html:Come help us celebrate&nbsp\;Rocksport&#39\;s New Location &nbsp\; &nbsp\;
LOCATION:54 Carey Road Queensbury\, NY
UID:e.1842.1051
SEQUENCE:3
DTSTAMP:20260426T035119Z
URL:http://business.adirondackchamber.org/events/details/ribbon-cutting-for-rocksport-1051
END:VEVENT

END:VCALENDAR
