BEGIN:VCALENDAR
VERSION:2.0
PRODID:-//ChamberMaster//Event Calendar 2.0//EN
METHOD:PUBLISH
X-PUBLISHED-TTL:P3D
REFRESH-INTERVAL:P3D
CALSCALE:GREGORIAN
BEGIN:VEVENT
DTSTART:20181029T160000Z
DTEND:20181029T170000Z
X-MICROSOFT-CDO-ALLDAYEVENT:FALSE
SUMMARY:Ribbon Cutting for Rachel's Spice Company
DESCRIPTION:Please join us for a ribbon cutting at Rachel's Spice Company.  Check out the cafe and all of the awesome high quality spice selections!
X-ALT-DESC;FMTTYPE=text/html:Please join us for a ribbon cutting at Rachel&#39\;s Spice Company.&nbsp\; Check out the cafe and all of the awesome high quality spice selections!
LOCATION:240 Warren Street\, Glens Falls NY 12801
UID:e.1842.3487
SEQUENCE:3
DTSTAMP:20260425T013143Z
URL:http://business.adirondackchamber.org/events/details/ribbon-cutting-for-rachel-s-spice-company-3487
END:VEVENT

END:VCALENDAR
