BEGIN:VCALENDAR
VERSION:2.0
PRODID:-//ChamberMaster//Event Calendar 2.0//EN
METHOD:PUBLISH
X-PUBLISHED-TTL:P3D
REFRESH-INTERVAL:P3D
CALSCALE:GREGORIAN
BEGIN:VEVENT
DTSTART:20200212T160000Z
DTEND:20200212T170000Z
X-MICROSOFT-CDO-ALLDAYEVENT:FALSE
SUMMARY:Ribbon Cutting for Quick Response Restoration
DESCRIPTION:Join the ARCC and the Saratoga County Chamber of Commerce for a joint Chamber ribbon cutting for Quick Response Restoration.
X-ALT-DESC;FMTTYPE=text/html:Join the ARCC and the Saratoga County Chamber of Commerce for a joint Chamber ribbon cutting for Quick Response Restoration.
LOCATION:2095 Route 9 Round Lake\, NY 12151
UID:e.1842.3911
SEQUENCE:3
DTSTAMP:20260422T002634Z
URL:http://business.adirondackchamber.org/events/details/ribbon-cutting-for-quick-response-restoration-3911
END:VEVENT

END:VCALENDAR
