BEGIN:VCALENDAR
VERSION:2.0
PRODID:-//ChamberMaster//Event Calendar 2.0//EN
METHOD:PUBLISH
X-PUBLISHED-TTL:P3D
REFRESH-INTERVAL:P3D
CALSCALE:GREGORIAN
BEGIN:VEVENT
DTSTART:20191008T210000Z
DTEND:20191008T220000Z
X-MICROSOFT-CDO-ALLDAYEVENT:FALSE
SUMMARY:Ribbon Cutting for Queensbury Cigar & Pipe
DESCRIPTION:Queensbury Cigar & Pipe is celebrating their 25th Anniversary with an official launch of their anniversary cigar\, the Kristoff QCP 25. Join us for a ribbon cutting!
X-ALT-DESC;FMTTYPE=text/html:Queensbury Cigar &amp\; Pipe is celebrating their 25th Anniversary with an official launch of their anniversary cigar\, the Kristoff QCP 25. Join us for a ribbon cutting!
LOCATION:Queensbury Cigar & Pipe 1036 Route 9 Queensbury\, NY 12804
UID:e.1842.3868
SEQUENCE:3
DTSTAMP:20260422T054703Z
URL:http://business.adirondackchamber.org/events/details/ribbon-cutting-for-queensbury-cigar-pipe-3868
END:VEVENT

END:VCALENDAR
