BEGIN:VCALENDAR
VERSION:2.0
PRODID:-//ChamberMaster//Event Calendar 2.0//EN
METHOD:PUBLISH
X-PUBLISHED-TTL:P3D
REFRESH-INTERVAL:P3D
CALSCALE:GREGORIAN
BEGIN:VEVENT
DTSTART:20210916T170000Z
DTEND:20210916T180000Z
X-MICROSOFT-CDO-ALLDAYEVENT:FALSE
SUMMARY:Ribbon Cutting for Quantum Chiropractic
DESCRIPTION:Join us for a ribbon cutting ceremony for Quantum Chiropractic.
X-ALT-DESC;FMTTYPE=text/html:Join us for a ribbon cutting ceremony for Quantum Chiropractic.
LOCATION:Quantum Chiropractic 357 Ridge Road Queensbury\, NY 12804
UID:e.1842.4131
SEQUENCE:3
DTSTAMP:20260420T150234Z
URL:http://business.adirondackchamber.org/events/details/ribbon-cutting-for-quantum-chiropractic-4131
END:VEVENT

END:VCALENDAR
