BEGIN:VCALENDAR
VERSION:2.0
PRODID:-//ChamberMaster//Event Calendar 2.0//EN
METHOD:PUBLISH
X-PUBLISHED-TTL:P3D
REFRESH-INTERVAL:P3D
CALSCALE:GREGORIAN
BEGIN:VEVENT
DTSTART:20170616T200000Z
DTEND:20170616T203000Z
X-MICROSOFT-CDO-ALLDAYEVENT:FALSE
SUMMARY:Ribbon Cutting for Planned Parenthood Relocation
DESCRIPTION:Planned Parenthood Mohawk Hudson\, is relocating to 543 Bay Road.\n\nJoin us to celebrate their new state-of-the-art facility! Light refreshments will be served after the Ribbon Cutting Ceremony.
X-ALT-DESC;FMTTYPE=text/html:<span style="color: rgb(29\, 33\, 41)\; font-family: tahoma\; font-size: 12px\;">Planned Parenthood Mohawk Hudson\, is relocating to 543 Bay Road.<br />\nJoin us to celebrate their new state-of-the-art facility! Light refreshments will be served after the Ribbon Cutting Ceremony.</span>
LOCATION:543 Bay Road Queensbury\, NY 12804
UID:e.1842.1050
SEQUENCE:3
DTSTAMP:20260426T034508Z
URL:http://business.adirondackchamber.org/events/details/ribbon-cutting-for-planned-parenthood-relocation-1050
END:VEVENT

END:VCALENDAR
