BEGIN:VCALENDAR
VERSION:2.0
PRODID:-//ChamberMaster//Event Calendar 2.0//EN
METHOD:PUBLISH
X-PUBLISHED-TTL:P3D
REFRESH-INTERVAL:P3D
CALSCALE:GREGORIAN
BEGIN:VEVENT
DTSTART:20220929T200000Z
DTEND:20220929T210000Z
X-MICROSOFT-CDO-ALLDAYEVENT:FALSE
SUMMARY:Ribbon Cutting for Placentric
DESCRIPTION:Join the ARCC and the Lake George Regional Chamber of Commerce for a joint Chamber ribbon cutting for Placentric!\n\n\n\nFollowing the ribbon cutting will be a launch party at Downtown Social\, located at 190 Glen Street in downtown Glens Falls.
X-ALT-DESC;FMTTYPE=text/html:Join the ARCC and the Lake George Regional Chamber of Commerce for a joint Chamber ribbon cutting for Placentric!<br />\n<br />\nFollowing the ribbon cutting will be a launch party at Downtown Social\, located at 190 Glen Street in downtown Glens Falls.
LOCATION:237 Glen Street Suite #106 Glens Falls\, NY 12801
UID:e.1842.4268
SEQUENCE:3
DTSTAMP:20260419T201139Z
URL:http://business.adirondackchamber.org/events/details/ribbon-cutting-for-placentric-4268
END:VEVENT

END:VCALENDAR
