BEGIN:VCALENDAR
VERSION:2.0
PRODID:-//ChamberMaster//Event Calendar 2.0//EN
METHOD:PUBLISH
X-PUBLISHED-TTL:P3D
REFRESH-INTERVAL:P3D
CALSCALE:GREGORIAN
BEGIN:VEVENT
DTSTART:20170726T210000Z
DTEND:20170726T213000Z
X-MICROSOFT-CDO-ALLDAYEVENT:FALSE
SUMMARY:Ribbon Cutting for Pioneer Bank
DESCRIPTION:Come join us celebrate the grand opening of the  Queensbury Pioneer Bank location.\n\nLight refreshments and spirits will be served.
X-ALT-DESC;FMTTYPE=text/html:Come join us celebrate the grand opening of the&nbsp\; Queensbury Pioneer Bank location.<br />\nLight refreshments and spirits will be served. &nbsp\;&nbsp\;
LOCATION:739 Upper Glen Street Queensbury\, NY 12804
UID:e.1842.1081
SEQUENCE:3
DTSTAMP:20260426T022327Z
URL:http://business.adirondackchamber.org/events/details/ribbon-cutting-for-pioneer-bank-1081
END:VEVENT

END:VCALENDAR
