BEGIN:VCALENDAR
VERSION:2.0
PRODID:-//ChamberMaster//Event Calendar 2.0//EN
METHOD:PUBLISH
X-PUBLISHED-TTL:P3D
REFRESH-INTERVAL:P3D
CALSCALE:GREGORIAN
BEGIN:VEVENT
DTSTART:20190215T203000Z
DTEND:20190215T210000Z
X-MICROSOFT-CDO-ALLDAYEVENT:FALSE
SUMMARY:Ribbon Cutting for Paula Traina State Farm
DESCRIPTION:Paula Traina\, State Farm agent\, invites you to her grand opening and ribbon cutting celebration!
X-ALT-DESC;FMTTYPE=text/html:Paula Traina\, State Farm agent\, invites you to her grand opening and ribbon cutting celebration!
LOCATION:Paula Traina State Farm 736 Upper Glen Street Glens Falls\, NY 12801
UID:e.1842.3590
SEQUENCE:3
DTSTAMP:20260424T183848Z
URL:http://business.adirondackchamber.org/events/details/ribbon-cutting-for-paula-traina-state-farm-3590
END:VEVENT

END:VCALENDAR
