BEGIN:VCALENDAR
VERSION:2.0
PRODID:-//ChamberMaster//Event Calendar 2.0//EN
METHOD:PUBLISH
X-PUBLISHED-TTL:P3D
REFRESH-INTERVAL:P3D
CALSCALE:GREGORIAN
BEGIN:VEVENT
DTSTART:20211105T203000Z
DTEND:20211105T210000Z
X-MICROSOFT-CDO-ALLDAYEVENT:FALSE
SUMMARY:Ribbon Cutting for Outcast Athletics
DESCRIPTION:Outcast Athletics invites you to the grand opening of their new location. Outcast Athletics is a gym offering class based training to help you transform into the best you. They are focused on proper form\, a great community and helping you feel AWESOME when you leave!\n\n\n\nCome celebrate their new location with an ARCC ribbon cutting!
X-ALT-DESC;FMTTYPE=text/html:<div>Outcast Athletics invites you to the grand opening of their new location. Outcast Athletics is a gym offering class based training to help you transform into the best you. They are focused on proper form\, a great community and helping you feel AWESOME when you leave!<br />\n<br />\nCome celebrate their new location with an ARCC ribbon cutting!</div>\n
LOCATION:Outcast Athletics 22 Hudson Falls Road South Glens Falls\, NY 12803
UID:e.1842.4151
SEQUENCE:3
DTSTAMP:20260420T114919Z
URL:http://business.adirondackchamber.org/events/details/ribbon-cutting-for-outcast-athletics-4151
END:VEVENT

END:VCALENDAR
