BEGIN:VCALENDAR
VERSION:2.0
PRODID:-//ChamberMaster//Event Calendar 2.0//EN
METHOD:PUBLISH
X-PUBLISHED-TTL:P3D
REFRESH-INTERVAL:P3D
CALSCALE:GREGORIAN
BEGIN:VEVENT
DTSTART:20170622T193000Z
DTEND:20170622T203000Z
X-MICROSOFT-CDO-ALLDAYEVENT:FALSE
SUMMARY:Ribbon Cutting for On the Rocks Pub
DESCRIPTION:Ribbon Cutting for On the Rocks Pub
X-ALT-DESC;FMTTYPE=text/html:Ribbon Cutting for On the Rocks Pub
LOCATION:1 W Main Street Granville\, NY
UID:e.1842.1067
SEQUENCE:3
DTSTAMP:20260426T034924Z
URL:http://business.adirondackchamber.org/events/details/ribbon-cutting-for-on-the-rocks-pub-1067
END:VEVENT

END:VCALENDAR
