BEGIN:VCALENDAR
VERSION:2.0
PRODID:-//ChamberMaster//Event Calendar 2.0//EN
METHOD:PUBLISH
X-PUBLISHED-TTL:P3D
REFRESH-INTERVAL:P3D
CALSCALE:GREGORIAN
BEGIN:VEVENT
DTSTART:20220517T190000Z
DTEND:20220517T200000Z
X-MICROSOFT-CDO-ALLDAYEVENT:FALSE
SUMMARY:Ribbon Cutting for Northern Insuring Agency
DESCRIPTION:Northern Insuring Agency has moved to their new home off of Bay Street\, and is inviting everyone to celebrate with a ribbon cutting! This new location allows for the growth of their team as they expand their offerings in our region.\n\n\n\nFor more than 90 years\, Northern Insuring Agency\, Inc. has been serving the Northern New York Region\, providing exceptional customer service and quality insurance products. \n\n\n\nWith offices in Plattsburgh\, Potsdam and Glens Falls\, they are here to help you with your auto\, home\, life\, health\, business\, employee benefits and more.
X-ALT-DESC;FMTTYPE=text/html:Northern Insuring Agency has moved to their new home off of Bay Street\, and is inviting everyone to celebrate with a ribbon cutting! This new location allows for the growth of their team as they expand their offerings in our region.<br />\n<br />\nFor more than 90 years\, Northern Insuring Agency\, Inc. has been serving the Northern New York Region\, providing exceptional customer service and quality insurance products.&nbsp\;<br />\n<br />\nWith offices in Plattsburgh\, Potsdam and Glens Falls\, they are here to help you with your auto\, home\, life\, health\, business\, employee benefits and more.
LOCATION:21 Bay Street Glens Falls\, NY 12801
UID:e.1842.4212
SEQUENCE:3
DTSTAMP:20260420T022805Z
URL:http://business.adirondackchamber.org/events/details/ribbon-cutting-for-northern-insuring-agency-4212
END:VEVENT

END:VCALENDAR
