BEGIN:VCALENDAR
VERSION:2.0
PRODID:-//ChamberMaster//Event Calendar 2.0//EN
METHOD:PUBLISH
X-PUBLISHED-TTL:P3D
REFRESH-INTERVAL:P3D
CALSCALE:GREGORIAN
BEGIN:VEVENT
DTSTART:20210108T140000Z
DTEND:20210108T150000Z
X-MICROSOFT-CDO-ALLDAYEVENT:FALSE
SUMMARY:Ribbon Cutting for North Country Paws for Obedience
DESCRIPTION:Join the ARCC as we help North Country Paws for Obedience celebrate the opening of their second location!\n\n\n\n**Masks/face coverings are required. Please practice social distancing.**
X-ALT-DESC;FMTTYPE=text/html:Join the ARCC as we help <a href="http://r20.rs6.net/tn.jsp?f=001kcJW6NmSFiiv0C2I1seR287fwxFnw9_KjlTZ8RliprmyrBQSmiE-fQqmoFw9hpaAGo5APTSACoxck98vakyyT6T8tBZe1vV4h_S4Fi6PHNZSdvJfk4jk3z0LmZHfUUD2Mz_HfhVCVMchnlXiSRs8C126HsPtdb9y&amp\;c=cJ0E37N8XeuzJw_AKxtW66y2WoX-A9VBU50CvaAEMI0uVVt7v4En7A==&amp\;ch=CvyyeoTKkpTwtzMTieOHr-70Sczqe3TW92C5-pFR6lo9S1woUTFF_Q==" target="_blank">North Country Paws for Obedience</a> celebrate the opening of their second location!<br />\n<br />\n<em>**Masks/face coverings are required. Please practice social distancing.**</em><br />\n&nbsp\;
LOCATION:North Country Paws for Obedience 4202 Route 4 Hudson Falls\, NY 12839
UID:e.1842.4016
SEQUENCE:3
DTSTAMP:20260421T054329Z
URL:http://business.adirondackchamber.org/events/details/ribbon-cutting-for-north-country-paws-for-obedience-4016
END:VEVENT

END:VCALENDAR
