BEGIN:VCALENDAR
VERSION:2.0
PRODID:-//ChamberMaster//Event Calendar 2.0//EN
METHOD:PUBLISH
X-PUBLISHED-TTL:P3D
REFRESH-INTERVAL:P3D
CALSCALE:GREGORIAN
BEGIN:VEVENT
DTSTART:20220928T193000Z
DTEND:20220928T203000Z
X-MICROSOFT-CDO-ALLDAYEVENT:FALSE
SUMMARY:Ribbon Cutting for new office space of Advokate
DESCRIPTION:Advokate has moved their office to a new location - join the ARCC and Lake George Regional Chamber of Commerce as we celebrate their new space with a ribbon cutting!\n\n\n\nAdvokate empowers artists\, startups\, nonprofits and small businesses with the tools they need to be successful. Their team is growing and they have moved into a new space.
X-ALT-DESC;FMTTYPE=text/html:Advokate has moved their office to a new location - join the ARCC and Lake George Regional Chamber of Commerce as we celebrate their new space with a ribbon cutting!<br />\n<br />\nAdvokate empowers artists\, startups\, nonprofits and small businesses with the tools they need&nbsp\;to be successful. Their team is growing and they have moved into a new space.
LOCATION:333 Glen Street\, Suite 201 Glens Falls\, NY 12801
UID:e.1842.4259
SEQUENCE:3
DTSTAMP:20260419T220559Z
URL:http://business.adirondackchamber.org/events/details/ribbon-cutting-for-new-office-space-of-advokate-4259
END:VEVENT

END:VCALENDAR
