BEGIN:VCALENDAR
VERSION:2.0
PRODID:-//ChamberMaster//Event Calendar 2.0//EN
METHOD:PUBLISH
X-PUBLISHED-TTL:P3D
REFRESH-INTERVAL:P3D
CALSCALE:GREGORIAN
BEGIN:VEVENT
DTSTART:20190628T190000Z
DTEND:20190628T200000Z
X-MICROSOFT-CDO-ALLDAYEVENT:FALSE
SUMMARY:Ribbon Cutting for New Exhibit at World Awareness Children's Museum
DESCRIPTION:The World Awareness Children's Museum invites you to check out their new textile exhibit. The museum has a mission to inspire curiosity and foster understanding and appreciation of worldwide cultural diversity. Its collection is comprised of pieces from 140 countries including 8\,000+ artifacts (fashion\, musical instruments\, dolls\, toys and other objects) as well as 7\,000+ pieces of international children's art.\n\n\n\nWe hope you can join us for the opening of this new exhibit!
X-ALT-DESC;FMTTYPE=text/html:<span style="color:#000000\;">The World Awareness Children&#39\;s Museum invites you to check out their new textile exhibit. The museum has a mission to inspire curiosity and foster understanding and appreciation of worldwide cultural diversity. Its collection is comprised of pieces from 140 countries including 8\,000+ artifacts (fashion\, musical instruments\, dolls\, toys and other objects) as well as 7\,000+ pieces of international children&rsquo\;s art.<br />\n<br />\n<strong>We hope you can join us for the opening of this new exhibit!</strong></span>
LOCATION:World Awareness Children's Museum 89 Warren Street Glens Falls\, NY 12801
UID:e.1842.3679
SEQUENCE:3
DTSTAMP:20260424T122631Z
URL:http://business.adirondackchamber.org/events/details/ribbon-cutting-for-new-exhibit-at-world-awareness-children-s-museum-3679
END:VEVENT

END:VCALENDAR
