BEGIN:VCALENDAR
VERSION:2.0
PRODID:-//ChamberMaster//Event Calendar 2.0//EN
METHOD:PUBLISH
X-PUBLISHED-TTL:P3D
REFRESH-INTERVAL:P3D
CALSCALE:GREGORIAN
BEGIN:VEVENT
DTSTART:20220721T203000Z
DTEND:20220721T210000Z
X-MICROSOFT-CDO-ALLDAYEVENT:FALSE
SUMMARY:Ribbon Cutting for new Adirondack Ballroom at The Queensbury Hotel
DESCRIPTION:Join the Lake George Regional Chamber of Commerce and the Adirondack Regional Chamber of Commerce (ARCC) for a ribbon cutting celebrating the grand opening of the newly renovated Adirondack Ballroom at the historic Queensbury Hotel.\n\n \n\nThe Queensbury Hotel in downtown Glens Falls has been regarded as the city's centerpiece since 1926. For nearly a century\, The Q has had the privilege of welcoming guests from near and far.\n\n \n\nThe 5\,200-square-foot expansion project includes a complete renovation and enlargement of the Adirondack Ballroom\, update of the Warren Room\, the addition of a patio space and a new state-of-the-art kitchen.\n\n\n\nPlease RSVP by clicking here.
X-ALT-DESC;FMTTYPE=text/html:<span style="color:#050505\;"><span style="font-family:tahoma\,sans-serif\;"><span style="font-size:9.0pt\;">Join the Lake George Regional Chamber of Commerce and the Adirondack Regional Chamber of Commerce (ARCC) for a ribbon cutting celebrating the grand opening of the newly renovated Adirondack Ballroom at the historic Queensbury Hotel.</span></span></span><br />\n&nbsp\;<br />\n<span style="color:#050505\;"><span style="font-family:tahoma\,sans-serif\;"><span style="font-size:9.0pt\;">The Queensbury Hotel in downtown Glens Falls has been regarded as the city&rsquo\;s centerpiece since 1926. For nearly a century\, The Q has had the privilege of welcoming guests from near and far.</span></span></span><br />\n&#65279\;<br />\n<span style="color:#050505\;"><span style="font-family:tahoma\,sans-serif\;"><span style="font-size:9.0pt\;">The 5\,200-square-foot expansion project includes a complete renovation and enlargement of the Adirondack Ballroom\, update of the Warren Room\, the addition of a patio space and a new state-of-the-art kitchen.<br />\n<br />\n<a href="https://form.jotform.com/221714608778161" target="_blank"><strong>Please RSVP by clicking here.</strong></a></span></span></span><br />\n&nbsp\;
LOCATION:The Queensbury Hotel 88 Ridge Street Glens Falls\, NY 12801
UID:e.1842.4251
SEQUENCE:3
DTSTAMP:20260419T235310Z
URL:http://business.adirondackchamber.org/events/details/ribbon-cutting-for-new-adirondack-ballroom-at-the-queensbury-hotel-4251
END:VEVENT

END:VCALENDAR
