BEGIN:VCALENDAR
VERSION:2.0
PRODID:-//ChamberMaster//Event Calendar 2.0//EN
METHOD:PUBLISH
X-PUBLISHED-TTL:P3D
REFRESH-INTERVAL:P3D
CALSCALE:GREGORIAN
BEGIN:VEVENT
DTSTART:20200303T210000Z
DTEND:20200303T220000Z
X-MICROSOFT-CDO-ALLDAYEVENT:FALSE
SUMMARY:Ribbon Cutting for Mullen's Pub
DESCRIPTION:Join the ARCC for the Grand Opening Celebration for Mullen's Pub in Hudson Falls!\n\n\n\nMullen's Pub features Irish-American pub fare with daily specials.
X-ALT-DESC;FMTTYPE=text/html:Join the ARCC for the Grand Opening Celebration for Mullen&#39\;s Pub in Hudson Falls!<br />\n<br />\nMullen&#39\;s Pub features Irish-American pub fare with daily specials.
LOCATION:Mullen's Pub 198 Main Street Hudson Falls\, NY 12839
UID:e.1842.3912
SEQUENCE:3
DTSTAMP:20260421T210401Z
URL:http://business.adirondackchamber.org/events/details/ribbon-cutting-for-mullen-s-pub-3912
END:VEVENT

END:VCALENDAR
