BEGIN:VCALENDAR
VERSION:2.0
PRODID:-//ChamberMaster//Event Calendar 2.0//EN
METHOD:PUBLISH
X-PUBLISHED-TTL:P3D
REFRESH-INTERVAL:P3D
CALSCALE:GREGORIAN
BEGIN:VEVENT
DTSTART:20220512T153000Z
DTEND:20220512T163000Z
X-MICROSOFT-CDO-ALLDAYEVENT:FALSE
SUMMARY:Ribbon Cutting for Mountain View K9 Retreat
DESCRIPTION:Join the ARCC as we celebrate the opening of Mountain View K9 Retreat with a ribbon cutting!\n\n\n\nMountain View K9 Retreat is a family owned & operated doggy daycare and boarding facility\, who's goal is to offer the best service possible for your dog while they are in our care. At Mountain View K9 Retreat they provide one on one attention\, play\, and walks while boarding. In addition to doggy services they also have an in-house photographer who takes fine art quality pet portraits of our furry friends.
X-ALT-DESC;FMTTYPE=text/html:Join the ARCC as we celebrate the opening of Mountain View K9 Retreat with a ribbon cutting!<br />\n<br />\nMountain View K9 Retreat is a family owned &amp\; operated doggy daycare and boarding facility\, who&rsquo\;s goal is to offer the best service possible for your dog while they are in our care. At Mountain View K9 Retreat they provide one on one attention\, play\, and walks while boarding. In addition to doggy services they also have an in-house photographer who takes fine art quality pet portraits of our furry friends.
LOCATION:Mountain View K9 Retreat 61 Baldwin Corners Road Fort Ann\, NY 12827
UID:e.1842.4239
SEQUENCE:3
DTSTAMP:20260420T024016Z
URL:http://business.adirondackchamber.org/events/details/ribbon-cutting-for-mountain-view-k9-retreat-4239
END:VEVENT

END:VCALENDAR
