BEGIN:VCALENDAR
VERSION:2.0
PRODID:-//ChamberMaster//Event Calendar 2.0//EN
METHOD:PUBLISH
X-PUBLISHED-TTL:P3D
REFRESH-INTERVAL:P3D
CALSCALE:GREGORIAN
BEGIN:VEVENT
DTSTART:20170725T160000Z
DTEND:20170725T163000Z
X-MICROSOFT-CDO-ALLDAYEVENT:FALSE
SUMMARY:Ribbon Cutting for Lula Roe Jen Denis
DESCRIPTION:Come to this unique ribbon cutting celebrating LulaRoe Jen Denis' Mobile Boutique.\n\n\n\nJen will be participating in the downtown Glens Falls Out to Lunch program.
X-ALT-DESC;FMTTYPE=text/html:Come to this unique ribbon cutting celebrating LulaRoe Jen Denis&#39\; Mobile Boutique.<br />\n<br />\nJen will be participating in the downtown Glens Falls Out to Lunch program.<br />\n&nbsp\;
LOCATION:Glens Falls City Park- in front of the city park band stand
UID:e.1842.1082
SEQUENCE:3
DTSTAMP:20260426T021607Z
URL:http://business.adirondackchamber.org/events/details/ribbon-cutting-for-lula-roe-jen-denis-1082
END:VEVENT

END:VCALENDAR
