BEGIN:VCALENDAR
VERSION:2.0
PRODID:-//ChamberMaster//Event Calendar 2.0//EN
METHOD:PUBLISH
X-PUBLISHED-TTL:P3D
REFRESH-INTERVAL:P3D
CALSCALE:GREGORIAN
BEGIN:VEVENT
DTSTART:20220215T210000Z
DTEND:20220215T220000Z
X-MICROSOFT-CDO-ALLDAYEVENT:FALSE
SUMMARY:Ribbon Cutting for Lake George Wine Outlet
DESCRIPTION:Join the ARCC for a ribbon cutting to celebrate the opening of the Lake George Wine Outlet. Located in the Log Jam Outlet Center\, Lake George Wine Outlet offers popular and unique wines and spirits at great prices. Whether you are at your vacation home\, visiting the area\, passing through or lucky enough to live here\, we want to be your stop for wines and spirits.
X-ALT-DESC;FMTTYPE=text/html:Join the ARCC for a ribbon cutting to celebrate the opening of the Lake George Wine Outlet. Located in the Log Jam Outlet Center\, Lake George Wine Outlet offers popular and unique wines and spirits at great prices. Whether you are at your vacation home\, visiting the area\, passing through or lucky enough to live here\, we want to be your stop for wines and spirits.
LOCATION:Lake George Wine Outlet 1476 New York Highway 9 Lake George\, NY 12845
UID:e.1842.4198
SEQUENCE:3
DTSTAMP:20260420T071723Z
URL:http://business.adirondackchamber.org/events/details/ribbon-cutting-for-lake-george-wine-outlet-4198
END:VEVENT

END:VCALENDAR
