BEGIN:VCALENDAR
VERSION:2.0
PRODID:-//ChamberMaster//Event Calendar 2.0//EN
METHOD:PUBLISH
X-PUBLISHED-TTL:P3D
REFRESH-INTERVAL:P3D
CALSCALE:GREGORIAN
BEGIN:VEVENT
DTSTART:20191028T190000Z
DTEND:20191028T200000Z
X-MICROSOFT-CDO-ALLDAYEVENT:FALSE
SUMMARY:Ribbon Cutting for Lake George Land Conservancy
DESCRIPTION:The Lake George Land Conservancy (LGLC) is celebrating the completion of their two-year renovation project of the trails at LGLC's Schumann Preserve at Pilot Knob. This renovation includes new parking\, trail construction\, kiosk and signage. Join the ARCC and Lake George Regional Chamber of Commerce & CVB for a joint Chamber ribbon cutting!
X-ALT-DESC;FMTTYPE=text/html:The <a data-link-type="web" href="http://www.lglc.org/" target="_blank">Lake George Land Conservancy</a> (LGLC) is celebrating the completion of their two-year renovation project of the trails at LGLC&#39\;s Schumann Preserve at Pilot Knob. This renovation includes new parking\, trail construction\, kiosk and signage. Join the ARCC and Lake George Regional Chamber of Commerce &amp\; CVB for a joint Chamber ribbon cutting!
LOCATION:Schumann Preserve at Pilot Knob 1142 Pilot Knob Road\, Fort Ann
UID:e.1842.3876
SEQUENCE:3
DTSTAMP:20260422T073405Z
URL:http://business.adirondackchamber.org/events/details/ribbon-cutting-for-lake-george-land-conservancy-3876
END:VEVENT

END:VCALENDAR
