BEGIN:VCALENDAR
VERSION:2.0
PRODID:-//ChamberMaster//Event Calendar 2.0//EN
METHOD:PUBLISH
X-PUBLISHED-TTL:P3D
REFRESH-INTERVAL:P3D
CALSCALE:GREGORIAN
BEGIN:VEVENT
DTSTART:20220810T123000Z
DTEND:20220810T133000Z
X-MICROSOFT-CDO-ALLDAYEVENT:FALSE
SUMMARY:Ribbon Cutting for Jenny Jo's Smoothie Bar
DESCRIPTION:Join the ARCC for a ribbon cutting as we introduce Jenny Jo's Smoothie Bar to the community! Formerly known as The Smoothie Shoppe\, owner Haley Gerarde rebranded her mobile smoothie business as Jenny Jo's Smoothie Bar\, after her two daughters. Join us for delicious\, nutritious smoothie samples\, as well as smoothies for sale\, and a ribbon cutting!
X-ALT-DESC;FMTTYPE=text/html:Join the ARCC for a ribbon cutting as we introduce Jenny Jo&#39\;s Smoothie Bar to the community! Formerly known as <em>The Smoothie Shoppe</em>\, owner Haley Gerarde rebranded her mobile smoothie business as Jenny Jo&#39\;s Smoothie Bar\, after her two daughters. Join us for delicious\, nutritious smoothie samples\, as well as smoothies for sale\, and a ribbon cutting!
LOCATION:Maple Street (by City Park) Glens Falls\, NY 12801
UID:e.1842.4252
SEQUENCE:3
DTSTAMP:20260419T220009Z
URL:http://business.adirondackchamber.org/events/details/ribbon-cutting-for-jenny-jo-s-smoothie-bar-4252
END:VEVENT

END:VCALENDAR
