BEGIN:VCALENDAR
VERSION:2.0
PRODID:-//ChamberMaster//Event Calendar 2.0//EN
METHOD:PUBLISH
X-PUBLISHED-TTL:P3D
REFRESH-INTERVAL:P3D
CALSCALE:GREGORIAN
BEGIN:VEVENT
DTSTART:20190712T193000Z
DTEND:20190712T200000Z
X-MICROSOFT-CDO-ALLDAYEVENT:FALSE
SUMMARY:Ribbon Cutting for Images by Holly Ann
DESCRIPTION:Join us for the grand opening of the photography studio for Images by Holly Ann.
X-ALT-DESC;FMTTYPE=text/html:Join us for the grand opening of the photography studio for Images by Holly Ann.
LOCATION:Images by Holly Ann Colvin Building 206 Glen Street\, Suite 44 Glens Falls\, NY 12801
UID:e.1842.3832
SEQUENCE:3
DTSTAMP:20260422T105439Z
URL:http://business.adirondackchamber.org/events/details/ribbon-cutting-for-images-by-holly-ann-3832
END:VEVENT

END:VCALENDAR
