BEGIN:VCALENDAR
VERSION:2.0
PRODID:-//ChamberMaster//Event Calendar 2.0//EN
METHOD:PUBLISH
X-PUBLISHED-TTL:P3D
REFRESH-INTERVAL:P3D
CALSCALE:GREGORIAN
BEGIN:VEVENT
DTSTART:20180106T190000Z
DTEND:20180106T210000Z
X-MICROSOFT-CDO-ALLDAYEVENT:FALSE
SUMMARY:Ribbon Cutting for iLoveKickboxing Queensbury
DESCRIPTION:Come help us celebrate our new member iLoveKickboxing with a ribbon cutting and a grand opening!
X-ALT-DESC;FMTTYPE=text/html:Come help us celebrate our new member iLoveKickboxing with a ribbon cutting and a grand opening!
LOCATION:820 State Route 9 Queensbury\, NY 12804
UID:e.1842.1109
SEQUENCE:3
DTSTAMP:20260425T155050Z
URL:http://business.adirondackchamber.org/events/details/ribbon-cutting-for-ilovekickboxing-queensbury-1109
END:VEVENT

END:VCALENDAR
