BEGIN:VCALENDAR
VERSION:2.0
PRODID:-//ChamberMaster//Event Calendar 2.0//EN
METHOD:PUBLISH
X-PUBLISHED-TTL:P3D
REFRESH-INTERVAL:P3D
CALSCALE:GREGORIAN
BEGIN:VEVENT
DTSTART:20190606T200000Z
DTEND:20190606T220000Z
X-MICROSOFT-CDO-ALLDAYEVENT:FALSE
SUMMARY:Ribbon Cutting for Hudson River Brewhouse
DESCRIPTION:Join us for the Grand Opening/First 100 Days weekend long celebration for Hudson River Brewhouse! Enjoy live music by the Radio junkies and Jitterbug lessons offered by ACEntertainment.
X-ALT-DESC;FMTTYPE=text/html:<span style="color:#000000\;">Join us for the Grand Opening/First 100 Days weekend long celebration for Hudson River Brewhouse! Enjoy live music by the Radio junkies and Jitterbug lessons offered by ACEntertainment.</span>
LOCATION:Hudson River Brewhouse 171 Main Street Hudson Falls\, NY 12839
UID:e.1842.3730
SEQUENCE:3
DTSTAMP:20260424T135957Z
URL:http://business.adirondackchamber.org/events/details/ribbon-cutting-for-hudson-river-brewhouse-3730
END:VEVENT

END:VCALENDAR
