BEGIN:VCALENDAR
VERSION:2.0
PRODID:-//ChamberMaster//Event Calendar 2.0//EN
METHOD:PUBLISH
X-PUBLISHED-TTL:P3D
REFRESH-INTERVAL:P3D
CALSCALE:GREGORIAN
BEGIN:VEVENT
DTSTART:20190906T203000Z
DTEND:20190906T210000Z
X-MICROSOFT-CDO-ALLDAYEVENT:FALSE
SUMMARY:Ribbon Cutting for HomeTown Cigars & Lounge
DESCRIPTION:HomeTown Cigars & Lounge is Downtown Glens Falls premier Tobacconist and exquisite lounge experience.\n\n\n\nJoin us for the grand opening of HomeTown Cigars & Lounge in downtown Glens Falls.
X-ALT-DESC;FMTTYPE=text/html:HomeTown Cigars &amp\; Lounge is Downtown Glens Falls premier Tobacconist and exquisite lounge experience.<br />\n<br />\nJoin us for the grand opening of HomeTown Cigars &amp\; Lounge in downtown Glens Falls.
LOCATION:HomeTown CIgars & Lounge 278 Glen Street Glens Falls\, NY 12801
UID:e.1842.3853
SEQUENCE:3
DTSTAMP:20260422T092254Z
URL:http://business.adirondackchamber.org/events/details/ribbon-cutting-for-hometown-cigars-lounge-3853
END:VEVENT

END:VCALENDAR
