BEGIN:VCALENDAR
VERSION:2.0
PRODID:-//ChamberMaster//Event Calendar 2.0//EN
METHOD:PUBLISH
X-PUBLISHED-TTL:P3D
REFRESH-INTERVAL:P3D
CALSCALE:GREGORIAN
BEGIN:VEVENT
DTSTART:20171109T210000Z
DTEND:20171109T230000Z
X-MICROSOFT-CDO-ALLDAYEVENT:FALSE
SUMMARY:Ribbon Cutting for Homestead Funding Corp. Glens Falls Branch
DESCRIPTION:Homestead Funding Corp. has opened their Glens Falls branch location. Join us as we help them celebrate! Appetizers and drinks will be served\, stay for the open house after the ribbon cutting.
X-ALT-DESC;FMTTYPE=text/html:Homestead Funding Corp. has opened their Glens Falls branch location. Join us as we help them celebrate! Appetizers and drinks will be served\, stay for the open house after the ribbon cutting.
LOCATION:3 Warren Street Suite 3A Glens Falls\, NY 12801
UID:e.1842.1105
SEQUENCE:3
DTSTAMP:20260425T194402Z
URL:http://business.adirondackchamber.org/events/details/ribbon-cutting-for-homestead-funding-corp-glens-falls-branch-1105
END:VEVENT

END:VCALENDAR
