BEGIN:VCALENDAR
VERSION:2.0
PRODID:-//ChamberMaster//Event Calendar 2.0//EN
METHOD:PUBLISH
X-PUBLISHED-TTL:P3D
REFRESH-INTERVAL:P3D
CALSCALE:GREGORIAN
BEGIN:VEVENT
DTSTART:20190114T150000Z
DTEND:20190114T210000Z
X-MICROSOFT-CDO-ALLDAYEVENT:FALSE
SUMMARY:Ribbon Cutting for High Peaks Hospice
DESCRIPTION:High Peaks Hospice is opening a new office location! Join the ARCC and the Lake George Regional Chamber of Commerce & CVB for a ribbon cutting ceremony\, followed by an open house.\n\n\n\nHigh Peaks Hospice aims to raise awareness\, educate the community and change the misconceptions on hospice care. They are inviting the community to come check out their new office location and the new and exciting things they have going on.
X-ALT-DESC;FMTTYPE=text/html:High Peaks Hospice is opening a new office location! Join the ARCC and the Lake George Regional Chamber of Commerce &amp\; CVB for a ribbon cutting ceremony\, followed by an open house.<br />\n<br />\nHigh Peaks Hospice aims to raise awareness\, educate the community and change the misconceptions on hospice care. They are inviting the community to come check out their new office location and the new and exciting things they have going on.<br />\n&nbsp\;
LOCATION:High Peaks Hospice 454 Glen Street Glens Falls\, NY 12801
UID:e.1842.3528
SEQUENCE:3
DTSTAMP:20260424T222551Z
URL:http://business.adirondackchamber.org/events/details/ribbon-cutting-for-high-peaks-hospice-3528
END:VEVENT

END:VCALENDAR
