BEGIN:VCALENDAR
VERSION:2.0
PRODID:-//ChamberMaster//Event Calendar 2.0//EN
METHOD:PUBLISH
X-PUBLISHED-TTL:P3D
REFRESH-INTERVAL:P3D
CALSCALE:GREGORIAN
BEGIN:VEVENT
DTSTART:20190605T213000Z
DTEND:20190605T223000Z
X-MICROSOFT-CDO-ALLDAYEVENT:FALSE
SUMMARY:Ribbon Cutting for Heber Associates 40th Anniversary of The Barn
DESCRIPTION:Heber Associates & Heber Travel are celebrating 40 years at their location in The Barn\, located on Quaker Road in Queensbury. In June of 1979 they celebrated their original open house and now they would like to invite you to celebrate their 40th Anniversary!
X-ALT-DESC;FMTTYPE=text/html:<span style="color:#000000\;">Heber Associates &amp\; Heber Travel are celebrating 40 years at their location in The Barn\, located on Quaker Road in Queensbury. In June of 1979 they celebrated their original open house and now they would like to invite you to celebrate their 40th Anniversary!</span>
LOCATION:The Barn 420 Quaker Road Queensbury\, NY 12804
UID:e.1842.3728
SEQUENCE:3
DTSTAMP:20260424T122606Z
URL:http://business.adirondackchamber.org/events/details/ribbon-cutting-for-heber-associates-40th-anniversary-of-the-barn-3728
END:VEVENT

END:VCALENDAR
