BEGIN:VCALENDAR
VERSION:2.0
PRODID:-//ChamberMaster//Event Calendar 2.0//EN
METHOD:PUBLISH
X-PUBLISHED-TTL:P3D
REFRESH-INTERVAL:P3D
CALSCALE:GREGORIAN
BEGIN:VEVENT
DTSTART:20220914T160000Z
DTEND:20220914T170000Z
X-MICROSOFT-CDO-ALLDAYEVENT:FALSE
SUMMARY:Ribbon Cutting for HCR Home Care
DESCRIPTION:HCR Home Care has moved to their new location in Glens Falls. Join the ARCC as we celebrate their new location with a ribbon cutting!\n\n\n\nHCR Home Care offers award-winning home health care designed to help you successfully maintain superior quality-of-life in your home.
X-ALT-DESC;FMTTYPE=text/html:HCR Home Care has moved to their new location in Glens Falls. Join the ARCC as we celebrate their new location with a ribbon cutting!<br />\n<br />\nHCR Home Care offers award-winning home health care designed to help you successfully maintain superior quality-of-life in your home.<br />\n&nbsp\;
LOCATION:16 Pearl Street Suite 208 Glens Falls\, NY 12801
UID:e.1842.4254
SEQUENCE:3
DTSTAMP:20260419T214431Z
URL:http://business.adirondackchamber.org/events/details/ribbon-cutting-for-hcr-home-care-4254
END:VEVENT

END:VCALENDAR
