BEGIN:VCALENDAR
VERSION:2.0
PRODID:-//ChamberMaster//Event Calendar 2.0//EN
METHOD:PUBLISH
X-PUBLISHED-TTL:P3D
REFRESH-INTERVAL:P3D
CALSCALE:GREGORIAN
BEGIN:VEVENT
DTSTART:20171002T190000Z
DTEND:20171002T200000Z
X-MICROSOFT-CDO-ALLDAYEVENT:FALSE
SUMMARY:Ribbon Cutting for Habitat for Humanity ReStore
DESCRIPTION:Come help celebrate the opening of Habitat for Humanity of Northern Saratoga\, Warren and Washington Counties' first ReStore!
X-ALT-DESC;FMTTYPE=text/html:Come help celebrate the opening of Habitat for Humanity of Northern Saratoga\, Warren and Washington Counties&#39\; first ReStore!
LOCATION:Habitat for Humanity 1373 US Route 9 Fort Edward\, NY 12828
UID:e.1842.1095
SEQUENCE:3
DTSTAMP:20260425T211759Z
URL:http://business.adirondackchamber.org/events/details/ribbon-cutting-for-habitat-for-humanity-restore-1095
END:VEVENT

END:VCALENDAR
