BEGIN:VCALENDAR
VERSION:2.0
PRODID:-//ChamberMaster//Event Calendar 2.0//EN
METHOD:PUBLISH
X-PUBLISHED-TTL:P3D
REFRESH-INTERVAL:P3D
CALSCALE:GREGORIAN
BEGIN:VEVENT
DTSTART:20170628T210000Z
DTEND:20170628T220000Z
X-MICROSOFT-CDO-ALLDAYEVENT:FALSE
SUMMARY:Ribbon Cutting for forged
DESCRIPTION:Ribbon Cutting for  forged
X-ALT-DESC;FMTTYPE=text/html:Ribbon Cutting for &nbsp\;forged
LOCATION:122 Main Street Hudson Falls\, NY 12839
UID:e.1842.1071
SEQUENCE:3
DTSTAMP:20260426T034816Z
URL:http://business.adirondackchamber.org/events/details/ribbon-cutting-for-forged-1071
END:VEVENT

END:VCALENDAR
