BEGIN:VCALENDAR
VERSION:2.0
PRODID:-//ChamberMaster//Event Calendar 2.0//EN
METHOD:PUBLISH
X-PUBLISHED-TTL:P3D
REFRESH-INTERVAL:P3D
CALSCALE:GREGORIAN
BEGIN:VEVENT
DTSTART:20170614T200000Z
DTEND:20170614T210000Z
X-MICROSOFT-CDO-ALLDAYEVENT:FALSE
SUMMARY:Ribbon Cutting for Forest Lake
DESCRIPTION:Discover this hidden gem that has been serving families since 1926. Look beyond the Summer Camp\, to the infinite possibilities available for Corporate and  wellness retreats\, conferences\, team building\, school and church groups and team practices   Let your imagination soar!\n\n	Complimentary drinks & finger foods\n	S'mores around a campfire\n	Fantastic tours of the 823 acre facility\n\nThis is a ribbon cutting you do not want to miss!
X-ALT-DESC;FMTTYPE=text/html:<span style="font-size:14px\;">Discover this hidden gem that has been serving families since 1926. Look beyond the Summer Camp\, to the infinite possibilities available for <strong>Corporate and &nbsp\;wellness retreats\, conferences\, team building\, school and church groups and team practices &hellip\; </strong>Let your imagination soar!</span>\n<ul>\n	<li><span style="font-size:14px\;">Complimentary drinks &amp\; finger foods</span></li>\n	<li><span style="font-size:14px\;">S&#39\;mores around a campfire</span></li>\n	<li><span style="font-size:14px\;">Fantastic tours of the 823 acre facility</span></li>\n</ul>\n<span style="font-size:14px\;">This is a ribbon cutting you do not want to miss!</span><br />\n&nbsp\;
LOCATION:261 Forest Lake Road Chestertown\, NY 12817
UID:e.1842.1068
SEQUENCE:3
DTSTAMP:20260426T034852Z
URL:http://business.adirondackchamber.org/events/details/ribbon-cutting-for-forest-lake-1068
END:VEVENT

END:VCALENDAR
