BEGIN:VCALENDAR
VERSION:2.0
PRODID:-//ChamberMaster//Event Calendar 2.0//EN
METHOD:PUBLISH
X-PUBLISHED-TTL:P3D
REFRESH-INTERVAL:P3D
CALSCALE:GREGORIAN
BEGIN:VEVENT
DTSTART:20211005T203000Z
DTEND:20211005T220000Z
X-MICROSOFT-CDO-ALLDAYEVENT:FALSE
SUMMARY:Ribbon Cutting for Flight Wine Bar & Restaurant
DESCRIPTION:The wait is finally over! Flight Wine Bar & Restaurant is ready to open its doors and we are beyond excited! Flight began as a market & deli\, in downtown Glens Falls\, and has now expanded to offer a wine bar & restaurant. Come check out the new spot\, and enjoy a cash bar\, complimentary hors d'oeuvres and wine tasting! Join us for the celebration!
X-ALT-DESC;FMTTYPE=text/html:The wait is finally over! Flight Wine Bar &amp\; Restaurant is ready to open its doors and we are beyond excited! Flight began as a market &amp\; deli\, in downtown Glens Falls\, and has now expanded to offer a wine bar &amp\; restaurant. Come check out the new spot\, and enjoy a cash bar\, complimentary hors d&#39\;oeuvres and wine tasting! Join us for the celebration!
LOCATION:Flight Wine Bar & Restaurant 11 South Street\, 6F Glens Falls\, NY 12801
UID:e.1842.4147
SEQUENCE:3
DTSTAMP:20260420T133005Z
URL:http://business.adirondackchamber.org/events/details/ribbon-cutting-for-flight-wine-bar-restaurant-4147
END:VEVENT

END:VCALENDAR
