BEGIN:VCALENDAR
VERSION:2.0
PRODID:-//ChamberMaster//Event Calendar 2.0//EN
METHOD:PUBLISH
X-PUBLISHED-TTL:P3D
REFRESH-INTERVAL:P3D
CALSCALE:GREGORIAN
BEGIN:VEVENT
DTSTART:20190919T150000Z
DTEND:20190919T160000Z
X-MICROSOFT-CDO-ALLDAYEVENT:FALSE
SUMMARY:Ribbon Cutting for Fairfield by Marriot
DESCRIPTION:Join the Adirondack Regional Chamber of Commerce and Lake George Regional Chamber of Commerce & CVB for a joint chamber ribbon cutting for the new Fairfield by Marriot. Located just off I-87\, exit 18\, this brand new hotel features 77 thoughtfully designed rooms and suites that provide separate living\, working and sleeping areas. Come by for the grand opening/ribbon cutting and stay for the tours!
X-ALT-DESC;FMTTYPE=text/html:Join the Adirondack Regional Chamber of Commerce and Lake George Regional Chamber of Commerce &amp\; CVB for a joint chamber ribbon cutting for the new Fairfield by Marriot. Located just off I-87\, exit 18\, this brand new hotel features 77 thoughtfully designed rooms and suites that provide separate living\, working and sleeping areas. Come by for the grand opening/ribbon cutting and stay for the tours!
LOCATION:Fairfield by Marriott 21 Big Boom Road Queensbury\, NY 12804
UID:e.1842.3873
SEQUENCE:3
DTSTAMP:20260422T073523Z
URL:http://business.adirondackchamber.org/events/details/ribbon-cutting-for-fairfield-by-marriot-3873
END:VEVENT

END:VCALENDAR
