BEGIN:VCALENDAR
VERSION:2.0
PRODID:-//ChamberMaster//Event Calendar 2.0//EN
METHOD:PUBLISH
X-PUBLISHED-TTL:P3D
REFRESH-INTERVAL:P3D
CALSCALE:GREGORIAN
BEGIN:VEVENT
DTSTART:20230210T180000Z
DTEND:20230210T190000Z
X-MICROSOFT-CDO-ALLDAYEVENT:FALSE
SUMMARY:Ribbon Cutting for EXIT Realty Empire Associates
DESCRIPTION:EXIT Realty Empire Associates has recently expanded their office to add a Southern Adirondack location at 1 Lawrence St.\, in Glens Falls. Join us as we celebrate them with a ribbon cutting!
X-ALT-DESC;FMTTYPE=text/html:EXIT Realty Empire Associates has recently expanded their office to add a Southern Adirondack location at 1 Lawrence St.\, in Glens Falls. Join us as we celebrate them with a ribbon cutting!<br />\n&nbsp\;
LOCATION:1 Lawrence Street Glens Falls\, NY 12801
UID:e.1842.4327
SEQUENCE:3
DTSTAMP:20260419T121146Z
URL:http://business.adirondackchamber.org/events/details/ribbon-cutting-for-exit-realty-empire-associates-4327
END:VEVENT

END:VCALENDAR
