BEGIN:VCALENDAR
VERSION:2.0
PRODID:-//ChamberMaster//Event Calendar 2.0//EN
METHOD:PUBLISH
X-PUBLISHED-TTL:P3D
REFRESH-INTERVAL:P3D
CALSCALE:GREGORIAN
BEGIN:VEVENT
DTSTART:20210503T160000Z
DTEND:20210503T170000Z
X-MICROSOFT-CDO-ALLDAYEVENT:FALSE
SUMMARY:Ribbon Cutting for Erbessd Instruments
DESCRIPTION:Join the ARCC as we help Erbessd Instruments celebrate their new office location with a ribbon cutting!\n\n\n\n**Face masks/coverings are required\, and social distancing will be practiced**
X-ALT-DESC;FMTTYPE=text/html:Join the ARCC as we help Erbessd Instruments celebrate their new office location with a ribbon cutting!<br />\n<br />\n**Face masks/coverings are required\, and social distancing will be practiced**
LOCATION:Erbessd Instruments 19 Exchange Street Glens Falls\, NY 12801
UID:e.1842.4101
SEQUENCE:3
DTSTAMP:20260420T214839Z
URL:http://business.adirondackchamber.org/events/details/ribbon-cutting-for-erbessd-instruments-4101
END:VEVENT

END:VCALENDAR
