BEGIN:VCALENDAR
VERSION:2.0
PRODID:-//ChamberMaster//Event Calendar 2.0//EN
METHOD:PUBLISH
X-PUBLISHED-TTL:P3D
REFRESH-INTERVAL:P3D
CALSCALE:GREGORIAN
BEGIN:VEVENT
DTSTART:20210922T140000Z
DTEND:20210922T150000Z
X-MICROSOFT-CDO-ALLDAYEVENT:FALSE
SUMMARY:Ribbon Cutting for Elle Salon & Spa
DESCRIPTION:Elle Salon & Spa has recently expanded to offer spa services\, and moved to their new location. And if that's not enough to celebrate\, it is also their 3rd Anniversary! Join us as we celebrate all of these occasions with a ribbon cutting.
X-ALT-DESC;FMTTYPE=text/html:Elle Salon &amp\; Spa has recently expanded to offer spa services\, and moved to their new location. And if that&#39\;s not enough to celebrate\, it is also their 3rd Anniversary! Join us as we celebrate all of these occasions with a ribbon cutting.
LOCATION:Elle Salon & Spa 113 Saratoga Avenue South Glens Falls\, NY 12803
UID:e.1842.4145
SEQUENCE:3
DTSTAMP:20260420T150621Z
URL:http://business.adirondackchamber.org/events/details/ribbon-cutting-for-elle-salon-spa-4145
END:VEVENT

END:VCALENDAR
