BEGIN:VCALENDAR
VERSION:2.0
PRODID:-//ChamberMaster//Event Calendar 2.0//EN
METHOD:PUBLISH
X-PUBLISHED-TTL:P3D
REFRESH-INTERVAL:P3D
CALSCALE:GREGORIAN
BEGIN:VEVENT
DTSTART:20211021T190000Z
DTEND:20211021T200000Z
X-MICROSOFT-CDO-ALLDAYEVENT:FALSE
SUMMARY:Ribbon Cutting for Edward Jones Investments\, John Gable\, Financial Advisor
DESCRIPTION:The Edward Jones Investments office of John Gable\, Financial Advisor has been 4 years in the making. John had a vision to bring an important service to the North Country communities\, and spread his mission to love and serve clients in achieving their financial goals. That vision has become a reality!\n\n\n\nJoin the ARCC as we celebrate John and his team!
X-ALT-DESC;FMTTYPE=text/html:The Edward Jones Investments office of John Gable\, Financial Advisor has been 4 years in the making. John had a vision to bring an important service to the North Country communities\, and spread his mission to love and serve clients in achieving their financial goals. That vision has become a reality!<br />\n<br />\nJoin the ARCC as we celebrate John and his team!
LOCATION:Edward Jones Investments 3755 Main Street Suite 101 Warrensburg\, NY 12885
UID:e.1842.4148
SEQUENCE:3
DTSTAMP:20260420T134709Z
URL:http://business.adirondackchamber.org/events/details/ribbon-cutting-for-edward-jones-investments-john-gable-financial-advisor-4148
END:VEVENT

END:VCALENDAR
