BEGIN:VCALENDAR
VERSION:2.0
PRODID:-//ChamberMaster//Event Calendar 2.0//EN
METHOD:PUBLISH
X-PUBLISHED-TTL:P3D
REFRESH-INTERVAL:P3D
CALSCALE:GREGORIAN
BEGIN:VEVENT
DTSTART:20190404T200000Z
DTEND:20190404T230000Z
X-MICROSOFT-CDO-ALLDAYEVENT:FALSE
SUMMARY:Ribbon Cutting for Edward Jones Investment
DESCRIPTION:Join us as we celebrate the Grand Opening of Edward Jones Investments!\n\nRibbon Cutting will be at 4:00\, followed by an open house.
X-ALT-DESC;FMTTYPE=text/html:Join us as we celebrate the Grand Opening of Edward Jones Investments!<br />\nRibbon Cutting will be at 4:00\, followed by an open house.
LOCATION:Edward Jones Investments 63 Quaker Road\, Suite 1 Queensbury\, NY 12804
UID:e.1842.3655
SEQUENCE:3
DTSTAMP:20260424T155111Z
URL:http://business.adirondackchamber.org/events/details/ribbon-cutting-for-edward-jones-investment-3655
END:VEVENT

END:VCALENDAR
