BEGIN:VCALENDAR
VERSION:2.0
PRODID:-//ChamberMaster//Event Calendar 2.0//EN
METHOD:PUBLISH
X-PUBLISHED-TTL:P3D
REFRESH-INTERVAL:P3D
CALSCALE:GREGORIAN
BEGIN:VEVENT
DTSTART:20220512T190000Z
DTEND:20220512T200000Z
X-MICROSOFT-CDO-ALLDAYEVENT:FALSE
SUMMARY:Ribbon Cutting for EDC Warren County
DESCRIPTION:EDC Warren County has moved their office space to South Street in Glens Falls. Join the ARCC and the Lake George Regional Chamber of Commerce for this joint Chamber ribbon cutting to celebrate their new space!
X-ALT-DESC;FMTTYPE=text/html:EDC Warren County has moved their office space to South Street in Glens Falls. Join the ARCC and the Lake George Regional Chamber of Commerce for this joint Chamber ribbon cutting to celebrate their new space!
LOCATION:11 South Street Glens Falls\, NY 12801
UID:e.1842.4235
SEQUENCE:3
DTSTAMP:20260420T023534Z
URL:http://business.adirondackchamber.org/events/details/ribbon-cutting-for-edc-warren-county-4235
END:VEVENT

END:VCALENDAR
