BEGIN:VCALENDAR
VERSION:2.0
PRODID:-//ChamberMaster//Event Calendar 2.0//EN
METHOD:PUBLISH
X-PUBLISHED-TTL:P3D
REFRESH-INTERVAL:P3D
CALSCALE:GREGORIAN
BEGIN:VEVENT
DTSTART:20190906T190000Z
DTEND:20190906T200000Z
X-MICROSOFT-CDO-ALLDAYEVENT:FALSE
SUMMARY:Ribbon Cutting for Duke Concrete
DESCRIPTION:Duke Concrete invites you to their Grand Re-Re-Opening! They have been performing some renovations to their space and are excited to unveil it. Join us for a ribbon cutting!
X-ALT-DESC;FMTTYPE=text/html:<a data-link-type="web" href="https://www.dukeconcrete.com/" target="_blank">Duke Concrete</a> invites you to their Grand Re-Re-Opening! They have been performing some renovations to their space and are excited to unveil it. Join us for a ribbon cutting!
LOCATION:Duke Concrete 50 Duke Industrial Park Queensbury\, NY 12804 Duke Industrial Park is located right off of Bay Road\, near the Warren County bike path.
UID:e.1842.3851
SEQUENCE:3
DTSTAMP:20260422T092158Z
URL:http://business.adirondackchamber.org/events/details/ribbon-cutting-for-duke-concrete-3851
END:VEVENT

END:VCALENDAR
