BEGIN:VCALENDAR
VERSION:2.0
PRODID:-//ChamberMaster//Event Calendar 2.0//EN
METHOD:PUBLISH
X-PUBLISHED-TTL:P3D
REFRESH-INTERVAL:P3D
CALSCALE:GREGORIAN
BEGIN:VEVENT
DTSTART:20200827T193000Z
DTEND:20200827T200000Z
X-MICROSOFT-CDO-ALLDAYEVENT:FALSE
SUMMARY:Ribbon Cutting for Dollar Dash
DESCRIPTION:Join the ARCC for a ribbon cutting celebration for Dollar Dash\, a family-operated discount store\, featuring a variety of discounted items and locally hand-made gifts. Come check it out!\n\n\n\n**Masks or face coverings will be required to attend this ribbon cutting. Please practice social distancing as well.**
X-ALT-DESC;FMTTYPE=text/html:Join the ARCC for a ribbon cutting celebration for Dollar Dash\, a family-operated discount store\, featuring a variety of discounted items and locally hand-made gifts. Come check it out!<br />\n<br />\n<em>**Masks or face coverings will be required to attend this ribbon cutting. Please practice social distancing as well.**</em>
LOCATION:Dollar Dash Mt. Royal Shopping Plaza 959 Rt. 9\, Suite E-F Queensbury\, NY 12804
UID:e.1842.3980
SEQUENCE:3
DTSTAMP:20260421T123254Z
URL:http://business.adirondackchamber.org/events/details/ribbon-cutting-for-dollar-dash-3980
END:VEVENT

END:VCALENDAR
