BEGIN:VCALENDAR
VERSION:2.0
PRODID:-//ChamberMaster//Event Calendar 2.0//EN
METHOD:PUBLISH
X-PUBLISHED-TTL:P3D
REFRESH-INTERVAL:P3D
CALSCALE:GREGORIAN
BEGIN:VEVENT
DTSTART:20190605T150000Z
DTEND:20190605T160000Z
X-MICROSOFT-CDO-ALLDAYEVENT:FALSE
SUMMARY:Ribbon Cutting for Dix Ave Diner
DESCRIPTION:The Dix Ave Diner is a new business in Queensbury\, with a great mission of "Meals that Heal Farm to Fork". Come check out this new diner and help the ARCC celebrate with a ribbon cutting!
X-ALT-DESC;FMTTYPE=text/html:<span style="color:#000000\;">The Dix Ave Diner is a new business in Queensbury\, with a great mission of &quot\;Meals that Heal Farm to Fork&quot\;. Come check out this new diner and help the ARCC celebrate with a ribbon cutting!</span>
LOCATION:Dix Ave Diner 487 Dix Avenue Queensbury\, NY 12804
UID:e.1842.3695
SEQUENCE:3
DTSTAMP:20260424T121831Z
URL:http://business.adirondackchamber.org/events/details/ribbon-cutting-for-dix-ave-diner-3695
END:VEVENT

END:VCALENDAR
