BEGIN:VCALENDAR
VERSION:2.0
PRODID:-//ChamberMaster//Event Calendar 2.0//EN
METHOD:PUBLISH
X-PUBLISHED-TTL:P3D
REFRESH-INTERVAL:P3D
CALSCALE:GREGORIAN
BEGIN:VEVENT
DTSTART:20191203T170000Z
DTEND:20191203T180000Z
X-MICROSOFT-CDO-ALLDAYEVENT:FALSE
SUMMARY:Ribbon Cutting for CWI\, Inc. New Office Location
DESCRIPTION:Community Work & Independence (CWI) Inc. has moved to their new office location in downtown Glens Falls. Join the ARCC as we celebrate their new administrative office location with a ribbon cutting!
X-ALT-DESC;FMTTYPE=text/html:Community Work &amp\; Independence (CWI) Inc. has moved to their new office location in downtown Glens Falls. Join the ARCC as we celebrate their new administrative office location with a ribbon cutting!
LOCATION:CWI\, Inc. 16 Pearl Street Glens Falls\, NY 12801
UID:e.1842.3888
SEQUENCE:3
DTSTAMP:20260422T023805Z
URL:http://business.adirondackchamber.org/events/details/ribbon-cutting-for-cwi-inc-new-office-location-3888
END:VEVENT

END:VCALENDAR
